BEGIN:VCALENDAR
VERSION:2.0
PRODID:-//The Genesis Foundation for Children - ECPv6.15.20//NONSGML v1.0//EN
CALSCALE:GREGORIAN
METHOD:PUBLISH
X-WR-CALNAME:The Genesis Foundation for Children
X-ORIGINAL-URL:https://thegenesisfoundation.org
X-WR-CALDESC:Events for The Genesis Foundation for Children
REFRESH-INTERVAL;VALUE=DURATION:PT1H
X-Robots-Tag:noindex
X-PUBLISHED-TTL:PT1H
BEGIN:VTIMEZONE
TZID:America/New_York
BEGIN:DAYLIGHT
TZOFFSETFROM:-0500
TZOFFSETTO:-0400
TZNAME:EDT
DTSTART:20250309T070000
END:DAYLIGHT
BEGIN:STANDARD
TZOFFSETFROM:-0400
TZOFFSETTO:-0500
TZNAME:EST
DTSTART:20251102T060000
END:STANDARD
BEGIN:DAYLIGHT
TZOFFSETFROM:-0500
TZOFFSETTO:-0400
TZNAME:EDT
DTSTART:20260308T070000
END:DAYLIGHT
BEGIN:STANDARD
TZOFFSETFROM:-0400
TZOFFSETTO:-0500
TZNAME:EST
DTSTART:20261101T060000
END:STANDARD
BEGIN:DAYLIGHT
TZOFFSETFROM:-0500
TZOFFSETTO:-0400
TZNAME:EDT
DTSTART:20270314T070000
END:DAYLIGHT
BEGIN:STANDARD
TZOFFSETFROM:-0400
TZOFFSETTO:-0500
TZNAME:EST
DTSTART:20271107T060000
END:STANDARD
END:VTIMEZONE
BEGIN:VEVENT
DTSTART;TZID=America/New_York:20260319T173000
DTEND;TZID=America/New_York:20260319T203000
DTSTAMP:20260421T074202
CREATED:20260206T211910Z
LAST-MODIFIED:20260206T212040Z
UID:10048-1773941400-1773952200@thegenesisfoundation.org
SUMMARY:Young Professionals Spring Mixer
DESCRIPTION:The Genesis Foundation’s Young Professionals Committee is hosting their Spring “Fun”draiser on Thursday\, March 19th at Five Iron Golf! Our private event space will feature golf simulators & contests\, table games like giant Jenga & Connect 4\, raffle prizes\, and TV’s for March Madness spectating! Light appetizers and drinks will also be available as part of this fundraiser to benefit kids with rare diseases and genetic disorders at Mass General Brigham for Children.
URL:https://thegenesisfoundation.org/event/young-professionals-spring-mixer-2/
LOCATION:Five Iron Golf\, 1 Washington Street\, Boston\, MA\, 02108\, United States
ATTACH;FMTTYPE=image/jpeg:https://thegenesisfoundation.org/wp-content/uploads/2026/02/Room.jpg
END:VEVENT
END:VCALENDAR